BEGIN:VCALENDAR
VERSION:2.0
PRODID:-//Portland Heights Dance Club - ECPv6.15.14//NONSGML v1.0//EN
CALSCALE:GREGORIAN
METHOD:PUBLISH
X-WR-CALNAME:Portland Heights Dance Club
X-ORIGINAL-URL:https://portlandheightsdc.com
X-WR-CALDESC:Events for Portland Heights Dance Club
REFRESH-INTERVAL;VALUE=DURATION:PT1H
X-Robots-Tag:noindex
X-PUBLISHED-TTL:PT1H
BEGIN:VTIMEZONE
TZID:America/Los_Angeles
BEGIN:DAYLIGHT
TZOFFSETFROM:-0800
TZOFFSETTO:-0700
TZNAME:PDT
DTSTART:20240310T100000
END:DAYLIGHT
BEGIN:STANDARD
TZOFFSETFROM:-0700
TZOFFSETTO:-0800
TZNAME:PST
DTSTART:20241103T090000
END:STANDARD
BEGIN:DAYLIGHT
TZOFFSETFROM:-0800
TZOFFSETTO:-0700
TZNAME:PDT
DTSTART:20250309T100000
END:DAYLIGHT
BEGIN:STANDARD
TZOFFSETFROM:-0700
TZOFFSETTO:-0800
TZNAME:PST
DTSTART:20251102T090000
END:STANDARD
BEGIN:DAYLIGHT
TZOFFSETFROM:-0800
TZOFFSETTO:-0700
TZNAME:PDT
DTSTART:20260308T100000
END:DAYLIGHT
BEGIN:STANDARD
TZOFFSETFROM:-0700
TZOFFSETTO:-0800
TZNAME:PST
DTSTART:20261101T090000
END:STANDARD
END:VTIMEZONE
BEGIN:VEVENT
DTSTART;TZID=America/Los_Angeles:20250201T180000
DTEND;TZID=America/Los_Angeles:20250201T223000
DTSTAMP:20260424T042626
CREATED:20240625T025016Z
LAST-MODIFIED:20240625T025016Z
UID:5294-1738432800-1738449000@portlandheightsdc.com
SUMMARY:February 2025 Dance
DESCRIPTION:The theme for the dance is A Dance for the Lovebirds \n \nSecond Wind Jazz will be playing for us. \nFor questions or if you are not a club member but would like to attend the dance\, please contact President@PortlandHeightsDC.com \n 
URL:https://portlandheightsdc.com/event/february-2025/
LOCATION:Oregon
END:VEVENT
END:VCALENDAR