BEGIN:VCALENDAR
VERSION:2.0
PRODID:-//Portland Heights Dance Club - ECPv6.15.14//NONSGML v1.0//EN
CALSCALE:GREGORIAN
METHOD:PUBLISH
X-WR-CALNAME:Portland Heights Dance Club
X-ORIGINAL-URL:https://portlandheightsdc.com
X-WR-CALDESC:Events for Portland Heights Dance Club
REFRESH-INTERVAL;VALUE=DURATION:PT1H
X-Robots-Tag:noindex
X-PUBLISHED-TTL:PT1H
BEGIN:VTIMEZONE
TZID:America/Los_Angeles
BEGIN:DAYLIGHT
TZOFFSETFROM:-0800
TZOFFSETTO:-0700
TZNAME:PDT
DTSTART:20220313T100000
END:DAYLIGHT
BEGIN:STANDARD
TZOFFSETFROM:-0700
TZOFFSETTO:-0800
TZNAME:PST
DTSTART:20221106T090000
END:STANDARD
BEGIN:DAYLIGHT
TZOFFSETFROM:-0800
TZOFFSETTO:-0700
TZNAME:PDT
DTSTART:20230312T100000
END:DAYLIGHT
BEGIN:STANDARD
TZOFFSETFROM:-0700
TZOFFSETTO:-0800
TZNAME:PST
DTSTART:20231105T090000
END:STANDARD
BEGIN:DAYLIGHT
TZOFFSETFROM:-0800
TZOFFSETTO:-0700
TZNAME:PDT
DTSTART:20240310T100000
END:DAYLIGHT
BEGIN:STANDARD
TZOFFSETFROM:-0700
TZOFFSETTO:-0800
TZNAME:PST
DTSTART:20241103T090000
END:STANDARD
END:VTIMEZONE
BEGIN:VEVENT
DTSTART;TZID=America/Los_Angeles:20230827T150000
DTEND;TZID=America/Los_Angeles:20230827T190000
DTSTAMP:20260425T071919
CREATED:20230822T183731Z
LAST-MODIFIED:20230822T183731Z
UID:4907-1693148400-1693162800@portlandheightsdc.com
SUMMARY:August Picnic
DESCRIPTION:The annual PHDC picnic is right around the corner.  It will be on August 27th from 3PM to 7PM at our Presidential Couple’s house.  Refer to the most recent newsletter or the evite for the address.  You can also contact us for more information at President@Portlandheightsdc.com.
URL:https://portlandheightsdc.com/event/august-picnic-2/
LOCATION:Oregon
END:VEVENT
END:VCALENDAR