BEGIN:VCALENDAR
VERSION:2.0
PRODID:-//Portland Heights Dance Club - ECPv6.15.14//NONSGML v1.0//EN
CALSCALE:GREGORIAN
METHOD:PUBLISH
X-WR-CALNAME:Portland Heights Dance Club
X-ORIGINAL-URL:https://portlandheightsdc.com
X-WR-CALDESC:Events for Portland Heights Dance Club
REFRESH-INTERVAL;VALUE=DURATION:PT1H
X-Robots-Tag:noindex
X-PUBLISHED-TTL:PT1H
BEGIN:VTIMEZONE
TZID:America/Los_Angeles
BEGIN:DAYLIGHT
TZOFFSETFROM:-0800
TZOFFSETTO:-0700
TZNAME:PDT
DTSTART:20210314T100000
END:DAYLIGHT
BEGIN:STANDARD
TZOFFSETFROM:-0700
TZOFFSETTO:-0800
TZNAME:PST
DTSTART:20211107T090000
END:STANDARD
BEGIN:DAYLIGHT
TZOFFSETFROM:-0800
TZOFFSETTO:-0700
TZNAME:PDT
DTSTART:20220313T100000
END:DAYLIGHT
BEGIN:STANDARD
TZOFFSETFROM:-0700
TZOFFSETTO:-0800
TZNAME:PST
DTSTART:20221106T090000
END:STANDARD
BEGIN:DAYLIGHT
TZOFFSETFROM:-0800
TZOFFSETTO:-0700
TZNAME:PDT
DTSTART:20230312T100000
END:DAYLIGHT
BEGIN:STANDARD
TZOFFSETFROM:-0700
TZOFFSETTO:-0800
TZNAME:PST
DTSTART:20231105T090000
END:STANDARD
END:VTIMEZONE
BEGIN:VEVENT
DTSTART;TZID=America/Los_Angeles:20221202T180000
DTEND;TZID=America/Los_Angeles:20221202T223000
DTSTAMP:20260423T173623
CREATED:20230822T221847Z
LAST-MODIFIED:20230822T221847Z
UID:5007-1670004000-1670020200@portlandheightsdc.com
SUMMARY:December 2022 Dance
DESCRIPTION:Polar Express
URL:https://portlandheightsdc.com/event/december-2022-dance/
END:VEVENT
BEGIN:VEVENT
DTSTART;TZID=America/Los_Angeles:20221104T180000
DTEND;TZID=America/Los_Angeles:20221104T223000
DTSTAMP:20260423T173623
CREATED:20230822T221653Z
LAST-MODIFIED:20230822T221653Z
UID:5005-1667584800-1667601000@portlandheightsdc.com
SUMMARY:November 2022 Dance
DESCRIPTION:Every Time It Rains Pennies from Heaven
URL:https://portlandheightsdc.com/event/november-2022/
END:VEVENT
END:VCALENDAR