BEGIN:VCALENDAR
VERSION:2.0
PRODID:-//Portland Heights Dance Club - ECPv6.15.14//NONSGML v1.0//EN
CALSCALE:GREGORIAN
METHOD:PUBLISH
X-ORIGINAL-URL:https://portlandheightsdc.com
X-WR-CALDESC:Events for Portland Heights Dance Club
REFRESH-INTERVAL;VALUE=DURATION:PT1H
X-Robots-Tag:noindex
X-PUBLISHED-TTL:PT1H
BEGIN:VTIMEZONE
TZID:America/Los_Angeles
BEGIN:DAYLIGHT
TZOFFSETFROM:-0800
TZOFFSETTO:-0700
TZNAME:PDT
DTSTART:20250309T100000
END:DAYLIGHT
BEGIN:STANDARD
TZOFFSETFROM:-0700
TZOFFSETTO:-0800
TZNAME:PST
DTSTART:20251102T090000
END:STANDARD
BEGIN:DAYLIGHT
TZOFFSETFROM:-0800
TZOFFSETTO:-0700
TZNAME:PDT
DTSTART:20260308T100000
END:DAYLIGHT
BEGIN:STANDARD
TZOFFSETFROM:-0700
TZOFFSETTO:-0800
TZNAME:PST
DTSTART:20261101T090000
END:STANDARD
BEGIN:DAYLIGHT
TZOFFSETFROM:-0800
TZOFFSETTO:-0700
TZNAME:PDT
DTSTART:20270314T100000
END:DAYLIGHT
BEGIN:STANDARD
TZOFFSETFROM:-0700
TZOFFSETTO:-0800
TZNAME:PST
DTSTART:20271107T090000
END:STANDARD
END:VTIMEZONE
BEGIN:VEVENT
DTSTART;TZID=America/Los_Angeles:20260207T180000
DTEND;TZID=America/Los_Angeles:20260207T223000
DTSTAMP:20260423T161741
CREATED:20250820T030836Z
LAST-MODIFIED:20260115T234527Z
UID:6742-1770487200-1770503400@portlandheightsdc.com
SUMMARY:February 2026 Dance
DESCRIPTION:[vc_row][vc_column][vc_column_text css=””]The theme is Come Fly with Me. \nSecond Wind Jazz will be playing for us. \nFor questions or if you are not a club member but would like to attend the dance\, please contact President@PortlandHeightsDC.com[/vc_column_text][/vc_column][/vc_row]
URL:https://portlandheightsdc.com/event/february-2026-dance/
LOCATION:Laurelhurst Club\, 3721 SE Ankeny\, Portland\, Oregon\, 97214
ATTACH;FMTTYPE=image/png:https://portlandheightsdc.com/wp-content/uploads/2026/01/Flight-invitation-2_25.png
END:VEVENT
BEGIN:VEVENT
DTSTART;TZID=America/Los_Angeles:20260307T180000
DTEND;TZID=America/Los_Angeles:20260307T223000
DTSTAMP:20260423T161741
CREATED:20250820T031023Z
LAST-MODIFIED:20260225T002802Z
UID:6744-1772906400-1772922600@portlandheightsdc.com
SUMMARY:March 2026  Dance
DESCRIPTION:[vc_row][vc_column][vc_column_text css=””]The theme is Under a Rain Lit Sky. \nSwing Street will be playing for us. \nFor questions or if you are not a club member but would like to attend the dance\, please contact President@PortlandHeightsDC.com \n[/vc_column_text][/vc_column][/vc_row]
URL:https://portlandheightsdc.com/event/march-2026-dance/
LOCATION:Laurelhurst Club\, 3721 SE Ankeny\, Portland\, Oregon\, 97214
ATTACH;FMTTYPE=image/jpeg:https://portlandheightsdc.com/wp-content/uploads/2026/02/Rain-lit-invitation-3_26.jpg
END:VEVENT
BEGIN:VEVENT
DTSTART;TZID=America/Los_Angeles:20260502T180000
DTEND;TZID=America/Los_Angeles:20260502T223000
DTSTAMP:20260423T161741
CREATED:20250820T031141Z
LAST-MODIFIED:20260421T202846Z
UID:6746-1777744800-1777761000@portlandheightsdc.com
SUMMARY:May 2026 Dance
DESCRIPTION:[vc_row][vc_column][vc_column_text css=””]The theme is Cabaret. \nSecond Wind Jazz will be playing for us. \nFor questions or if you are not a club member but would like to attend the dance\, please contact President@PortlandHeightsDC.com \n[/vc_column_text][/vc_column][/vc_row]
URL:https://portlandheightsdc.com/event/may-2026-dance/
LOCATION:Laurelhurst Club\, 3721 SE Ankeny\, Portland\, Oregon\, 97214
ATTACH;FMTTYPE=image/png:https://portlandheightsdc.com/wp-content/uploads/2026/04/May-2026-Cabaret.png
END:VEVENT
BEGIN:VEVENT
DTSTART;TZID=America/Los_Angeles:20260606T180000
DTEND;TZID=America/Los_Angeles:20260606T223000
DTSTAMP:20260423T161741
CREATED:20250820T031509Z
LAST-MODIFIED:20260126T013200Z
UID:6748-1780768800-1780785000@portlandheightsdc.com
SUMMARY:June 2026 Dance
DESCRIPTION:The theme has not been determined. \nColumbia Classic Jazz Band will be playing for us. \nFor questions or if you are not a club member but would like to attend the dance\, please contact President@PortlandHeightsDC.com \n 
URL:https://portlandheightsdc.com/event/june-2026-dance/
LOCATION:Laurelhurst Club\, 3721 SE Ankeny\, Portland\, Oregon\, 97214
ATTACH;FMTTYPE=image/jpeg:https://portlandheightsdc.com/wp-content/uploads/2026/01/third-image-2.jpg
END:VEVENT
END:VCALENDAR